BEGIN:VCALENDAR
VERSION:2.0
PRODID:-//Tina Elay - ECPv6.3.4//NONSGML v1.0//EN
CALSCALE:GREGORIAN
METHOD:PUBLISH
X-WR-CALNAME:Tina Elay
X-ORIGINAL-URL:https://www.tinaelay.at
X-WR-CALDESC:Veranstaltungen für Tina Elay
REFRESH-INTERVAL;VALUE=DURATION:PT1H
X-Robots-Tag:noindex
X-PUBLISHED-TTL:PT1H
BEGIN:VTIMEZONE
TZID:Europe/Vienna
BEGIN:DAYLIGHT
TZOFFSETFROM:+0100
TZOFFSETTO:+0200
TZNAME:CEST
DTSTART:20240331T010000
END:DAYLIGHT
BEGIN:STANDARD
TZOFFSETFROM:+0200
TZOFFSETTO:+0100
TZNAME:CET
DTSTART:20241027T010000
END:STANDARD
END:VTIMEZONE
BEGIN:VEVENT
DTSTART;TZID=Europe/Vienna:20241220T193000
DTEND;TZID=Europe/Vienna:20241220T203000
DTSTAMP:20260420T192927
CREATED:20231122T081228Z
LAST-MODIFIED:20241205T080245Z
UID:2662-1734723000-1734726600@www.tinaelay.at
SUMMARY:Healing voices around the world via zoom
DESCRIPTION:Healing voices around the world via zoom\n\n\nOn Friday\, December 20th – 7.30 p.m. (Berlin time) \n\n\n\n\nPeople from all over the world meet via Zoom\, connecting through singing of healing songs. Healing songs are songs with mostly little lyrics\, repeating them often\, so you don’t have to think about the lyrics anymore. These songs are empowering and are helping to be in the present moment. And I believe if we are connecting like this at the same time with the similar intention and consciousness\, we can build a powerful energy field\, spreading it out into the world. \n\n\n\nSo if you want to be part of it\, then send me an email info@tinaelay.com
URL:https://www.tinaelay.at/event/healing-voices-around-the-world-via-zoom/
LOCATION:Online via Zoom
CATEGORIES:Zoom
ATTACH;FMTTYPE=image/jpeg:https://www.tinaelay.at/wp-content/uploads/2023/10/IMG-20231011-WA0000.jpg
END:VEVENT
END:VCALENDAR