BEGIN:VCALENDAR
VERSION:2.0
PRODID:-//Tina Elay - ECPv6.3.4//NONSGML v1.0//EN
CALSCALE:GREGORIAN
METHOD:PUBLISH
X-ORIGINAL-URL:https://www.tinaelay.at
X-WR-CALDESC:Veranstaltungen für Tina Elay
REFRESH-INTERVAL;VALUE=DURATION:PT1H
X-Robots-Tag:noindex
X-PUBLISHED-TTL:PT1H
BEGIN:VTIMEZONE
TZID:Europe/Vienna
BEGIN:DAYLIGHT
TZOFFSETFROM:+0100
TZOFFSETTO:+0200
TZNAME:CEST
DTSTART:20240331T010000
END:DAYLIGHT
BEGIN:STANDARD
TZOFFSETFROM:+0200
TZOFFSETTO:+0100
TZNAME:CET
DTSTART:20241027T010000
END:STANDARD
END:VTIMEZONE
BEGIN:VEVENT
DTSTART;TZID=Europe/Vienna:20240901T180000
DTEND;TZID=Europe/Vienna:20240901T200000
DTSTAMP:20260419T170613
CREATED:20240818T072605Z
LAST-MODIFIED:20240818T072605Z
UID:2916-1725213600-1725220800@www.tinaelay.at
SUMMARY:Sing-Picknick im September
DESCRIPTION:Sing-Picknick im September\n\n\nSo.\, 1.9. von 18:00 – 20:00\nin Maria Enzersdorf\nFreier Ausgleich\n\n\n\nGemeinsam wollen wir in der Umgebung von Wald und Wiese Lieder aus aller Welt singen. Teilweise ruhig und ntspannend\, wie auch schwungvoll und kraftvoll.\n\nWenn du dabei sein willst\, dann freue ich mich über deine Email bis spätestens 30.8.: info@tinaelay.com
URL:https://www.tinaelay.at/event/sing-picknick-im-september/
CATEGORIES:Live vor Ort
ATTACH;FMTTYPE=image/jpeg:https://www.tinaelay.at/wp-content/uploads/2024/08/2024-09-01-Sing-Picknick.jpg
END:VEVENT
BEGIN:VEVENT
DTSTART;TZID=Europe/Vienna:20240922T191500
DTEND;TZID=Europe/Vienna:20240922T210000
DTSTAMP:20260419T170613
CREATED:20240818T065146Z
LAST-MODIFIED:20240918T064744Z
UID:2901-1727032500-1727038800@www.tinaelay.at
SUMMARY:Heartsong Evening Semesterkurs September 2024
DESCRIPTION:Heartsong Evening Semesterkurs September 2024\nEinen Abend lang gemeinsam eintauchen in die Welt der Heartsongs – nur mit Stimme oder auch Gitarre\, Ukulele\, Harmonium oder anderem Instrument nach Absprache. Wir kreieren gemeinsam eine Atmosphäre von wohltuenden Klängen und Gesängen.\nJeder ist mit seiner Stimme – so wie sie ist – willkommen. Falls du mit einem Instrument kommst\, dann ist es von Vorteil\, wenn du ein paar Akkorde spielen kannst. Du musst aber kein Profi sein. Wenn du einzelne Akkorde einmal nicht kannst\, dann lasst du diese einfach aus.\nDas Wichtigste ist die Freude am gemeinsamen Musizieren\, der achtsame und wertfreie Umgang miteinander und das Erleben Teil einer musikalischen Gruppe zu sein. \nBist du dabei? Jede Stimme\, jedes Instrument ist von Bedeutung! 🙂 \nDu kannst zu einzelnen Terminen kommen oder auch das ganze Semester buchen. Aus Erfahrung macht es noch mehr Spaß\, wenn die Gruppe miteinander vertraut ist. \nAb 22.9. von 19:15 – 21:00\n(9x – 22.9.\, 6.10.\, 20.10.\, 3.11.\, 17.11.\, 8.12.\, 22.12.2024\, 5.1.2025\, 19.1.2025)\nin der Nuschinggasse 12/2\, 1230 Wien (Stimmfabrik – durch die Haustüre einfach hineingehen und bei der 2. Türe rechts läuten.) \nAusgleich:\n€  30\,- pro Einzeltermin (€ 27\,- bei Zahlung bis eine Woche vorher)\n€ 189\,- statt € 270\,- Semesterkurs bei Zahlung bis 22.9.2024!\n€ 149\,- statt € 270\,- Semesterkurs Frühbucher bei Zahlung bis 30.08.2024! \nDein Ticket bekommst du hier: https://www.tinaelay.at/produkt/heartsong-evening-semesterkurs-september-2024/ \nWenn du mit einem Instrument mitspielen möchtest\, dann ist der Kauf eines Songbooks von Vorteil. Nähere Informationen hierzu folgen demnächst. \nIch freue mich über dein Kommen!\nAuf bald\, Tina – www.tinaelay.com \nHinweis:\nUmsatzsteuer: Der Rechnungsbetrag enthält aufgrund der Kleinunternehmerregelung keine Umsatzsteuer\nRücktritt vom Kauf: In diesem Webshop werden ausschließlich digitale Inhalte wie downloads und elektronische Tickets verkauft. Auf diese Produkte besteht kein Rücktrittsrecht. Bei Kauf-Abschluss erklären Sie sich mit dem Verzicht auf Ihr Rücktrittsrecht einverstanden. Bei einmaligen Konzerten/Workshops ist kein Rücktritt möglich. Nach Absprache mit der Kursleitung kann ein Ersatz-Teilnehmer genannt werden. Bei Einzelunterricht kann die gebuchte Stunde bis 48 Stunden vorher kostenlos durch eine Email an info@tinaelay.com verschoben werden.
URL:https://www.tinaelay.at/event/heartsong-evening-semesterkurs-september-2024/
CATEGORIES:Live vor Ort
ATTACH;FMTTYPE=image/jpeg:https://www.tinaelay.at/wp-content/uploads/2023/08/Heartsong-Evening.jpg
END:VEVENT
END:VCALENDAR